BEGIN:VCALENDAR
VERSION:2.0
PRODID:-//THISchool Yadgiri - ECPv6.1.3//NONSGML v1.0//EN
CALSCALE:GREGORIAN
METHOD:PUBLISH
X-WR-CALNAME:THISchool Yadgiri
X-ORIGINAL-URL:https://thinternationalschool.in
X-WR-CALDESC:Events for THISchool Yadgiri
REFRESH-INTERVAL;VALUE=DURATION:PT1H
X-Robots-Tag:noindex
X-PUBLISHED-TTL:PT1H
BEGIN:VTIMEZONE
TZID:Asia/Kolkata
BEGIN:STANDARD
TZOFFSETFROM:+0530
TZOFFSETTO:+0530
TZNAME:IST
DTSTART:20220101T000000
END:STANDARD
TZID:UTC
BEGIN:STANDARD
TZOFFSETFROM:+0000
TZOFFSETTO:+0000
TZNAME:UTC
DTSTART:20220101T000000
END:STANDARD
END:VTIMEZONE
BEGIN:VEVENT
DTSTART;VALUE=DATE:20230301
DTEND;VALUE=DATE:20230302
DTSTAMP:20260423T034436
CREATED:20160725T183000Z
LAST-MODIFIED:20230301T184907Z
UID:10805-1677628800-1677715199@thinternationalschool.in
SUMMARY:World Civil Defence Day
DESCRIPTION:Every year on March 1\, the world celebrates World Civil Defence Day to raise awareness about the importance of civil defence measures in protecting people and their property from natural disasters\, accidents\, and other emergencies. \n 
URL:https://thinternationalschool.in/event/world-civil-defence-day/
LOCATION:Central Park\, Brooklyn\, NY 10036\, New York\, United States
CATEGORIES:Family
ORGANIZER;CN="Nick%20Sims":MAILTO:sims@example.com
END:VEVENT
BEGIN:VEVENT
DTSTART;VALUE=DATE:20220917
DTEND;VALUE=DATE:20220918
DTSTAMP:20260423T034436
CREATED:20180216T035020Z
LAST-MODIFIED:20180216T035020Z
UID:14298-1663372800-1663459199@thinternationalschool.in
SUMMARY:Day of Knowledge
DESCRIPTION:Cras dapibus ullamcorper dictum. Vivamus nec erat placerat felis scelerisque porttitor in ac turpis. In nec imperdiet turpis. Suspendisse quis orci ut orci pulvinar eleifend. Nulla eu mattis ipsum. Integer eget sagittis nulla. Praesent consectetur lacus et maximus eleifend. Integer non lacus dui. Mauris tortor diam\, laoreet quis commodo vitae\, sodales vel augue.| Sed rutrum\, libero non pretium tristique\, arcu mi sollicitudin ex\, quis venenatis orci tellus vel dolor. Donec gravida\, dolor ut auctor facilisis\, enim dolor pellentesque lectus\, nec vehicula nibh risus ac leo. Mauris volutpat aliquam tellus nec rhoncus. Aliquam et nibh pulvinar\, sodales nibh et\, pretium urna. Vivamus quam augue\, maximus in consequat imperdiet\, iaculis non nibh. Aliquam erat volutpat. Curabitur venenatis massa sed lacus tristique\, non auctor nisl sodales. Sed ultricies lacus ut libero faucibus fringilla. Ut nisi tellus\, posuere vel mattis nec\, convallis a metus. Nullam elementum molestie felis nec lobortis. Cras at justo eu elit semper tempor sed quis orci. In risus magna\, malesuada vel elementum ut\, finibus et nunc. \n 
URL:https://thinternationalschool.in/event/day-of-knowledge-2/
LOCATION:Central Park\, Brooklyn\, NY 10036\, New York\, United States
CATEGORIES:Family
ORGANIZER;CN="Nick%20Sims":MAILTO:sims@example.com
END:VEVENT
BEGIN:VEVENT
DTSTART;VALUE=DATE:20220917
DTEND;VALUE=DATE:20220918
DTSTAMP:20260423T034436
CREATED:20180216T035020Z
LAST-MODIFIED:20180216T035020Z
UID:13185-1663372800-1663459199@thinternationalschool.in
SUMMARY:Day of Knowledge
DESCRIPTION:Cras dapibus ullamcorper dictum. Vivamus nec erat placerat felis scelerisque porttitor in ac turpis. In nec imperdiet turpis. Suspendisse quis orci ut orci pulvinar eleifend. Nulla eu mattis ipsum. Integer eget sagittis nulla. Praesent consectetur lacus et maximus eleifend. Integer non lacus dui. Mauris tortor diam\, laoreet quis commodo vitae\, sodales vel augue.| Sed rutrum\, libero non pretium tristique\, arcu mi sollicitudin ex\, quis venenatis orci tellus vel dolor. Donec gravida\, dolor ut auctor facilisis\, enim dolor pellentesque lectus\, nec vehicula nibh risus ac leo. Mauris volutpat aliquam tellus nec rhoncus. Aliquam et nibh pulvinar\, sodales nibh et\, pretium urna. Vivamus quam augue\, maximus in consequat imperdiet\, iaculis non nibh. Aliquam erat volutpat. Curabitur venenatis massa sed lacus tristique\, non auctor nisl sodales. Sed ultricies lacus ut libero faucibus fringilla. Ut nisi tellus\, posuere vel mattis nec\, convallis a metus. Nullam elementum molestie felis nec lobortis. Cras at justo eu elit semper tempor sed quis orci. In risus magna\, malesuada vel elementum ut\, finibus et nunc. \n 
URL:https://thinternationalschool.in/event/day-of-knowledge/
LOCATION:Central Park\, Brooklyn\, NY 10036\, New York\, United States
CATEGORIES:Family
ORGANIZER;CN="Nick%20Sims":MAILTO:sims@example.com
END:VEVENT
BEGIN:VEVENT
DTSTART;VALUE=DATE:20220720
DTEND;VALUE=DATE:20220723
DTSTAMP:20260423T034436
CREATED:20160630T183000Z
LAST-MODIFIED:20160630T183000Z
UID:10792-1658275200-1658534399@thinternationalschool.in
SUMMARY:Hello\, Autumn!
DESCRIPTION:Cras dapibus ullamcorper dictum. Vivamus nec erat placerat felis scelerisque porttitor in ac turpis. In nec imperdiet turpis. Suspendisse quis orci ut orci pulvinar eleifend. Nulla eu mattis ipsum. Integer eget sagittis nulla. Praesent consectetur lacus et maximus eleifend. Integer non lacus dui. Mauris tortor diam\, laoreet quis commodo vitae\, sodales vel augue.| Sed rutrum\, libero non pretium tristique\, arcu mi sollicitudin ex\, quis venenatis orci tellus vel dolor. Donec gravida\, dolor ut auctor facilisis\, enim dolor pellentesque lectus\, nec vehicula nibh risus ac leo. Mauris volutpat aliquam tellus nec rhoncus. Aliquam et nibh pulvinar\, sodales nibh et\, pretium urna. Vivamus quam augue\, maximus in consequat imperdiet\, iaculis non nibh. Aliquam erat volutpat. Curabitur venenatis massa sed lacus tristique\, non auctor nisl sodales. Sed ultricies lacus ut libero faucibus fringilla. Ut nisi tellus\, posuere vel mattis nec\, convallis a metus. Nullam elementum molestie felis nec lobortis. Cras at justo eu elit semper tempor sed quis orci. In risus magna\, malesuada vel elementum ut\, finibus et nunc. \n 
URL:https://thinternationalschool.in/event/hello-autumn/
LOCATION:Central Park\, Brooklyn\, NY 10036\, New York\, United States
CATEGORIES:Fun
ORGANIZER;CN="Nick%20Sims":MAILTO:sims@example.com
END:VEVENT
BEGIN:VEVENT
DTSTART;VALUE=DATE:20220720
DTEND;VALUE=DATE:20220723
DTSTAMP:20260423T034436
CREATED:20160630T183000Z
LAST-MODIFIED:20160630T183000Z
UID:14293-1658275200-1658534399@thinternationalschool.in
SUMMARY:Hello\, Autumn!
DESCRIPTION:Cras dapibus ullamcorper dictum. Vivamus nec erat placerat felis scelerisque porttitor in ac turpis. In nec imperdiet turpis. Suspendisse quis orci ut orci pulvinar eleifend. Nulla eu mattis ipsum. Integer eget sagittis nulla. Praesent consectetur lacus et maximus eleifend. Integer non lacus dui. Mauris tortor diam\, laoreet quis commodo vitae\, sodales vel augue.| Sed rutrum\, libero non pretium tristique\, arcu mi sollicitudin ex\, quis venenatis orci tellus vel dolor. Donec gravida\, dolor ut auctor facilisis\, enim dolor pellentesque lectus\, nec vehicula nibh risus ac leo. Mauris volutpat aliquam tellus nec rhoncus. Aliquam et nibh pulvinar\, sodales nibh et\, pretium urna. Vivamus quam augue\, maximus in consequat imperdiet\, iaculis non nibh. Aliquam erat volutpat. Curabitur venenatis massa sed lacus tristique\, non auctor nisl sodales. Sed ultricies lacus ut libero faucibus fringilla. Ut nisi tellus\, posuere vel mattis nec\, convallis a metus. Nullam elementum molestie felis nec lobortis. Cras at justo eu elit semper tempor sed quis orci. In risus magna\, malesuada vel elementum ut\, finibus et nunc. \n 
URL:https://thinternationalschool.in/event/hello-autumn-2/
LOCATION:Central Park\, Brooklyn\, NY 10036\, New York\, United States
CATEGORIES:Fun
ORGANIZER;CN="Nick%20Sims":MAILTO:sims@example.com
END:VEVENT
BEGIN:VEVENT
DTSTART;TZID=UTC:20220703T011841
DTEND;TZID=UTC:20210414T170000
DTSTAMP:20260423T034436
CREATED:20160225T073441Z
LAST-MODIFIED:20160225T073441Z
UID:14551-1656811121-1618419600@thinternationalschool.in
SUMMARY:Freedom Expressions Art
DESCRIPTION:Many school principals have discovered the power and potential of using school-wide themes to build school spirit\, morale\, camaraderie\, and test scores. At Lewis Vincent Elementary School in Denham Springs\, Louisiana\, this year’s theme is teamwork and the slogan is “We’re On the Same Team.” “Themes are a great way to coordinate all activities throughout the year\,” Vincent Elementary’s principal\, Carol Robertson\, told Education World. “Our teachers and I choose a theme before we leave for the summer. That way\, everyone can be looking during the summer for ideas and suggestions for incorporating that theme into teaching\, projects\, school improvement\, and prizes.” – See more at: http://www.educationworld.com/a_admin/admin/admin427.shtml#sthash.vVSnthNl.dpuf
URL:https://thinternationalschool.in/event/event-2/
ATTACH;FMTTYPE=image/png:https://thinternationalschool.in/wp-content/uploads/2016/02/slider4.png
END:VEVENT
BEGIN:VEVENT
DTSTART;TZID=UTC:20220703T011841
DTEND;TZID=UTC:20210316T170000
DTSTAMP:20260423T034436
CREATED:20160329T021349Z
LAST-MODIFIED:20160329T021349Z
UID:14550-1656811121-1615914000@thinternationalschool.in
SUMMARY:Spring Choir Concert & School Art Show
DESCRIPTION:Vocal and instrumental music students make up McAuley’s Choir\, Vocal Ensemble\, Show Choir (with young men from LaSalle)\, and Orchestra. Each year McAuley drama performs one play in the fall\, one in the winter\, and one musical in the spring. Students enrolled in visual arts classes are frequently selected to exhibit their artwork in local venues.
URL:https://thinternationalschool.in/event/spring-choir-concert-school-art-show/
ATTACH;FMTTYPE=image/png:https://thinternationalschool.in/wp-content/uploads/2016/03/slider3.png
END:VEVENT
BEGIN:VEVENT
DTSTART;TZID=UTC:20220703T011841
DTEND;TZID=UTC:20201120T170000
DTSTAMP:20260423T034436
CREATED:20160225T073428Z
LAST-MODIFIED:20160225T073428Z
UID:14552-1656811121-1605891600@thinternationalschool.in
SUMMARY:Creative Workshop With Mentari
DESCRIPTION:In October\, ArtWorks for Freedom partnered with Mentari Human Trafficking Survivor Empowerment Program to hold a two-day photography workshop in New York City. Conducted by Kay Chernush\, the workshop introduced 6 participants to principles of composition\, color\, texture\, and the idea of photographing with intention.  Participants used their cameras to explore a Queens neighborhood and park\, learning how to capture a sense of place and opening their eyes to the many visual possibilities around them. \nIf you work directly with survivors and would like to set up a photography workshop\, please contact us for more information.
URL:https://thinternationalschool.in/event/event-1/
ATTACH;FMTTYPE=image/png:https://thinternationalschool.in/wp-content/uploads/2016/02/slider2.png
END:VEVENT
BEGIN:VEVENT
DTSTART;TZID=UTC:20220703T011841
DTEND;TZID=UTC:20190825T170000
DTSTAMP:20260423T034436
CREATED:20160331T080757Z
LAST-MODIFIED:20160331T080757Z
UID:14549-1656811121-1566752400@thinternationalschool.in
SUMMARY:Spring Break - schools closed
DESCRIPTION:The Manhasset Union Free School District is in compliance with the U.S. Civil Rights Act of 1964 and the Title IX Educational Amendments of 1972\, Part 86. The School District provides equal employment and educational opportunities to all individuals without regard to race\, color\, creed\, religion\, national origin\, political affiliation\, sex\, sexual orientation\, age\, marital status\, veteran status or disability.
URL:https://thinternationalschool.in/event/spring-break-schools-closed/
ATTACH;FMTTYPE=image/png:https://thinternationalschool.in/wp-content/uploads/2016/03/Event.png
END:VEVENT
BEGIN:VEVENT
DTSTART;TZID=UTC:20220703T011840
DTEND;TZID=UTC:20200511T170000
DTSTAMP:20260423T034436
CREATED:20160401T052516Z
LAST-MODIFIED:20160401T052516Z
UID:14548-1656811120-1589216400@thinternationalschool.in
SUMMARY:Easter Mass in school for pupils and staff
DESCRIPTION:There are two classes for each year group with a total of 420 pupils from Reception to Year 6. Attainment at St Monica’s has been consistently ‘outstanding’ at Key Stage 2 for the last five years. But academic achievement is not our only concern. Whilst we aim to ensure every child reaches their full potential academically\, they are also taught that they can be successful in many different ways. This could be anything from being a good friend to being a fantastic musician\, sports person or artist\, the list is endless! The children are also taught that it is good to make mistakes because that is how you learn and persistence is key! “Strive to succeed in the presence of God!” is our motto and one that fits well with our ethos. The parents of our children are very supportive of the school and this is valued as an essential ingredient for making our school as successful as it is.
URL:https://thinternationalschool.in/event/easter-mass-in-school-for-pupils-and-staff/
ATTACH;FMTTYPE=image/png:https://thinternationalschool.in/wp-content/uploads/2016/04/Event-03.png
END:VEVENT
BEGIN:VEVENT
DTSTART;VALUE=DATE:20220629
DTEND;VALUE=DATE:20220704
DTSTAMP:20260423T034436
CREATED:20160704T183000Z
LAST-MODIFIED:20160704T183000Z
UID:14294-1656460800-1656892799@thinternationalschool.in
SUMMARY:Day of Love\, Family and  Fidelity
DESCRIPTION:Cras dapibus ullamcorper dictum. Vivamus nec erat placerat felis scelerisque porttitor in ac turpis. In nec imperdiet turpis. Suspendisse quis orci ut orci pulvinar eleifend. Nulla eu mattis ipsum. Integer eget sagittis nulla. Praesent consectetur lacus et maximus eleifend. Integer non lacus dui. Mauris tortor diam\, laoreet quis commodo vitae\, sodales vel augue.| Sed rutrum\, libero non pretium tristique\, arcu mi sollicitudin ex\, quis venenatis orci tellus vel dolor. Donec gravida\, dolor ut auctor facilisis\, enim dolor pellentesque lectus\, nec vehicula nibh risus ac leo. Mauris volutpat aliquam tellus nec rhoncus. Aliquam et nibh pulvinar\, sodales nibh et\, pretium urna. Vivamus quam augue\, maximus in consequat imperdiet\, iaculis non nibh. Aliquam erat volutpat. Curabitur venenatis massa sed lacus tristique\, non auctor nisl sodales. Sed ultricies lacus ut libero faucibus fringilla. Ut nisi tellus\, posuere vel mattis nec\, convallis a metus. Nullam elementum molestie felis nec lobortis. Cras at justo eu elit semper tempor sed quis orci. In risus magna\, malesuada vel elementum ut\, finibus et nunc. \n 
URL:https://thinternationalschool.in/event/day-of-love-family-and-fidelity-2/
LOCATION:Central Park\, Brooklyn\, NY 10036\, New York\, United States
CATEGORIES:Fun
ORGANIZER;CN="Nick%20Sims":MAILTO:sims@example.com
END:VEVENT
BEGIN:VEVENT
DTSTART;VALUE=DATE:20220629
DTEND;VALUE=DATE:20220704
DTSTAMP:20260423T034436
CREATED:20160704T183000Z
LAST-MODIFIED:20160704T183000Z
UID:10800-1656460800-1656892799@thinternationalschool.in
SUMMARY:Day of Love\, Family and  Fidelity
DESCRIPTION:Cras dapibus ullamcorper dictum. Vivamus nec erat placerat felis scelerisque porttitor in ac turpis. In nec imperdiet turpis. Suspendisse quis orci ut orci pulvinar eleifend. Nulla eu mattis ipsum. Integer eget sagittis nulla. Praesent consectetur lacus et maximus eleifend. Integer non lacus dui. Mauris tortor diam\, laoreet quis commodo vitae\, sodales vel augue.| Sed rutrum\, libero non pretium tristique\, arcu mi sollicitudin ex\, quis venenatis orci tellus vel dolor. Donec gravida\, dolor ut auctor facilisis\, enim dolor pellentesque lectus\, nec vehicula nibh risus ac leo. Mauris volutpat aliquam tellus nec rhoncus. Aliquam et nibh pulvinar\, sodales nibh et\, pretium urna. Vivamus quam augue\, maximus in consequat imperdiet\, iaculis non nibh. Aliquam erat volutpat. Curabitur venenatis massa sed lacus tristique\, non auctor nisl sodales. Sed ultricies lacus ut libero faucibus fringilla. Ut nisi tellus\, posuere vel mattis nec\, convallis a metus. Nullam elementum molestie felis nec lobortis. Cras at justo eu elit semper tempor sed quis orci. In risus magna\, malesuada vel elementum ut\, finibus et nunc. \n 
URL:https://thinternationalschool.in/event/day-of-love-family-and-fidelity/
LOCATION:Central Park\, Brooklyn\, NY 10036\, New York\, United States
CATEGORIES:Fun
ORGANIZER;CN="Nick%20Sims":MAILTO:sims@example.com
END:VEVENT
BEGIN:VEVENT
DTSTART;VALUE=DATE:20220517
DTEND;VALUE=DATE:20220522
DTSTAMP:20260423T034436
CREATED:20160712T183000Z
LAST-MODIFIED:20160712T183000Z
UID:10801-1652745600-1653177599@thinternationalschool.in
SUMMARY:Our Merry Summer!
DESCRIPTION:Cras dapibus ullamcorper dictum. Vivamus nec erat placerat felis scelerisque porttitor in ac turpis. In nec imperdiet turpis. Suspendisse quis orci ut orci pulvinar eleifend. Nulla eu mattis ipsum. Integer eget sagittis nulla. Praesent consectetur lacus et maximus eleifend. Integer non lacus dui. Mauris tortor diam\, laoreet quis commodo vitae\, sodales vel augue.| Sed rutrum\, libero non pretium tristique\, arcu mi sollicitudin ex\, quis venenatis orci tellus vel dolor. Donec gravida\, dolor ut auctor facilisis\, enim dolor pellentesque lectus\, nec vehicula nibh risus ac leo. Mauris volutpat aliquam tellus nec rhoncus. Aliquam et nibh pulvinar\, sodales nibh et\, pretium urna. Vivamus quam augue\, maximus in consequat imperdiet\, iaculis non nibh. Aliquam erat volutpat. Curabitur venenatis massa sed lacus tristique\, non auctor nisl sodales. Sed ultricies lacus ut libero faucibus fringilla. Ut nisi tellus\, posuere vel mattis nec\, convallis a metus. Nullam elementum molestie felis nec lobortis. Cras at justo eu elit semper tempor sed quis orci. In risus magna\, malesuada vel elementum ut\, finibus et nunc. \n 
URL:https://thinternationalschool.in/event/our-merry-summer/
LOCATION:Central Park\, Brooklyn\, NY 10036\, New York\, United States
CATEGORIES:Kindergarten
ORGANIZER;CN="Nick%20Sims":MAILTO:sims@example.com
END:VEVENT
BEGIN:VEVENT
DTSTART;VALUE=DATE:20220517
DTEND;VALUE=DATE:20220522
DTSTAMP:20260423T034436
CREATED:20160712T183000Z
LAST-MODIFIED:20160712T183000Z
UID:14295-1652745600-1653177599@thinternationalschool.in
SUMMARY:Our Merry Summer!
DESCRIPTION:Cras dapibus ullamcorper dictum. Vivamus nec erat placerat felis scelerisque porttitor in ac turpis. In nec imperdiet turpis. Suspendisse quis orci ut orci pulvinar eleifend. Nulla eu mattis ipsum. Integer eget sagittis nulla. Praesent consectetur lacus et maximus eleifend. Integer non lacus dui. Mauris tortor diam\, laoreet quis commodo vitae\, sodales vel augue.| Sed rutrum\, libero non pretium tristique\, arcu mi sollicitudin ex\, quis venenatis orci tellus vel dolor. Donec gravida\, dolor ut auctor facilisis\, enim dolor pellentesque lectus\, nec vehicula nibh risus ac leo. Mauris volutpat aliquam tellus nec rhoncus. Aliquam et nibh pulvinar\, sodales nibh et\, pretium urna. Vivamus quam augue\, maximus in consequat imperdiet\, iaculis non nibh. Aliquam erat volutpat. Curabitur venenatis massa sed lacus tristique\, non auctor nisl sodales. Sed ultricies lacus ut libero faucibus fringilla. Ut nisi tellus\, posuere vel mattis nec\, convallis a metus. Nullam elementum molestie felis nec lobortis. Cras at justo eu elit semper tempor sed quis orci. In risus magna\, malesuada vel elementum ut\, finibus et nunc. \n 
URL:https://thinternationalschool.in/event/our-merry-summer-2/
LOCATION:Central Park\, Brooklyn\, NY 10036\, New York\, United States
CATEGORIES:Kindergarten
ORGANIZER;CN="Nick%20Sims":MAILTO:sims@example.com
END:VEVENT
BEGIN:VEVENT
DTSTART;VALUE=DATE:20220423
DTEND;VALUE=DATE:20220428
DTSTAMP:20260423T034436
CREATED:20160717T183000Z
LAST-MODIFIED:20160717T183000Z
UID:10803-1650672000-1651103999@thinternationalschool.in
SUMMARY:Birthday Kindergarten
DESCRIPTION:Cras dapibus ullamcorper dictum. Vivamus nec erat placerat felis scelerisque porttitor in ac turpis. In nec imperdiet turpis. Suspendisse quis orci ut orci pulvinar eleifend. Nulla eu mattis ipsum. Integer eget sagittis nulla. Praesent consectetur lacus et maximus eleifend. Integer non lacus dui. Mauris tortor diam\, laoreet quis commodo vitae\, sodales vel augue.| Sed rutrum\, libero non pretium tristique\, arcu mi sollicitudin ex\, quis venenatis orci tellus vel dolor. Donec gravida\, dolor ut auctor facilisis\, enim dolor pellentesque lectus\, nec vehicula nibh risus ac leo. Mauris volutpat aliquam tellus nec rhoncus. Aliquam et nibh pulvinar\, sodales nibh et\, pretium urna. Vivamus quam augue\, maximus in consequat imperdiet\, iaculis non nibh. Aliquam erat volutpat. Curabitur venenatis massa sed lacus tristique\, non auctor nisl sodales. Sed ultricies lacus ut libero faucibus fringilla. Ut nisi tellus\, posuere vel mattis nec\, convallis a metus. Nullam elementum molestie felis nec lobortis. Cras at justo eu elit semper tempor sed quis orci. In risus magna\, malesuada vel elementum ut\, finibus et nunc. \n 
URL:https://thinternationalschool.in/event/birthday-kindergarten/
LOCATION:Central Park\, Brooklyn\, NY 10036\, New York\, United States
CATEGORIES:Kindergarten
ORGANIZER;CN="Nick%20Sims":MAILTO:sims@example.com
END:VEVENT
BEGIN:VEVENT
DTSTART;VALUE=DATE:20220423
DTEND;VALUE=DATE:20220428
DTSTAMP:20260423T034436
CREATED:20160717T183000Z
LAST-MODIFIED:20160717T183000Z
UID:14296-1650672000-1651103999@thinternationalschool.in
SUMMARY:Birthday Kindergarten
DESCRIPTION:Cras dapibus ullamcorper dictum. Vivamus nec erat placerat felis scelerisque porttitor in ac turpis. In nec imperdiet turpis. Suspendisse quis orci ut orci pulvinar eleifend. Nulla eu mattis ipsum. Integer eget sagittis nulla. Praesent consectetur lacus et maximus eleifend. Integer non lacus dui. Mauris tortor diam\, laoreet quis commodo vitae\, sodales vel augue.| Sed rutrum\, libero non pretium tristique\, arcu mi sollicitudin ex\, quis venenatis orci tellus vel dolor. Donec gravida\, dolor ut auctor facilisis\, enim dolor pellentesque lectus\, nec vehicula nibh risus ac leo. Mauris volutpat aliquam tellus nec rhoncus. Aliquam et nibh pulvinar\, sodales nibh et\, pretium urna. Vivamus quam augue\, maximus in consequat imperdiet\, iaculis non nibh. Aliquam erat volutpat. Curabitur venenatis massa sed lacus tristique\, non auctor nisl sodales. Sed ultricies lacus ut libero faucibus fringilla. Ut nisi tellus\, posuere vel mattis nec\, convallis a metus. Nullam elementum molestie felis nec lobortis. Cras at justo eu elit semper tempor sed quis orci. In risus magna\, malesuada vel elementum ut\, finibus et nunc. \n 
URL:https://thinternationalschool.in/event/birthday-kindergarten-2/
LOCATION:Central Park\, Brooklyn\, NY 10036\, New York\, United States
CATEGORIES:Kindergarten
ORGANIZER;CN="Nick%20Sims":MAILTO:sims@example.com
END:VEVENT
BEGIN:VEVENT
DTSTART;VALUE=DATE:20220303
DTEND;VALUE=DATE:20220304
DTSTAMP:20260423T034436
CREATED:20160725T183000Z
LAST-MODIFIED:20230301T185103Z
UID:14297-1646265600-1646351999@thinternationalschool.in
SUMMARY:World Wildlife Day
DESCRIPTION:March 3 is World Wildlife Day. It is a United Nations International day to celebrate all the world’s wild animals and plants and the contribution that they … \n 
URL:https://thinternationalschool.in/event/world-wildlife-day/
LOCATION:Central Park\, Brooklyn\, NY 10036\, New York\, United States
CATEGORIES:Family
ORGANIZER;CN="Nick%20Sims":MAILTO:sims@example.com
END:VEVENT
END:VCALENDAR