BEGIN:VCALENDAR
VERSION:2.0
PRODID:-//THISchool Yadgiri - ECPv6.1.3//NONSGML v1.0//EN
CALSCALE:GREGORIAN
METHOD:PUBLISH
X-WR-CALNAME:THISchool Yadgiri
X-ORIGINAL-URL:https://thinternationalschool.in
X-WR-CALDESC:Events for THISchool Yadgiri
REFRESH-INTERVAL;VALUE=DURATION:PT1H
X-Robots-Tag:noindex
X-PUBLISHED-TTL:PT1H
BEGIN:VTIMEZONE
TZID:Asia/Kolkata
BEGIN:STANDARD
TZOFFSETFROM:+0530
TZOFFSETTO:+0530
TZNAME:IST
DTSTART:20220101T000000
END:STANDARD
TZID:UTC
BEGIN:STANDARD
TZOFFSETFROM:+0000
TZOFFSETTO:+0000
TZNAME:UTC
DTSTART:20220101T000000
END:STANDARD
END:VTIMEZONE
BEGIN:VEVENT
DTSTART;VALUE=DATE:20230301
DTEND;VALUE=DATE:20230302
DTSTAMP:20260420T221549
CREATED:20160725T183000Z
LAST-MODIFIED:20230301T184907Z
UID:10805-1677628800-1677715199@thinternationalschool.in
SUMMARY:World Civil Defence Day
DESCRIPTION:Every year on March 1\, the world celebrates World Civil Defence Day to raise awareness about the importance of civil defence measures in protecting people and their property from natural disasters\, accidents\, and other emergencies. \n 
URL:https://thinternationalschool.in/event/world-civil-defence-day/
LOCATION:Central Park\, Brooklyn\, NY 10036\, New York\, United States
CATEGORIES:Family
ORGANIZER;CN="Nick%20Sims":MAILTO:sims@example.com
END:VEVENT
BEGIN:VEVENT
DTSTART;VALUE=DATE:20220917
DTEND;VALUE=DATE:20220918
DTSTAMP:20260420T221549
CREATED:20180216T035020Z
LAST-MODIFIED:20180216T035020Z
UID:13185-1663372800-1663459199@thinternationalschool.in
SUMMARY:Day of Knowledge
DESCRIPTION:Cras dapibus ullamcorper dictum. Vivamus nec erat placerat felis scelerisque porttitor in ac turpis. In nec imperdiet turpis. Suspendisse quis orci ut orci pulvinar eleifend. Nulla eu mattis ipsum. Integer eget sagittis nulla. Praesent consectetur lacus et maximus eleifend. Integer non lacus dui. Mauris tortor diam\, laoreet quis commodo vitae\, sodales vel augue.| Sed rutrum\, libero non pretium tristique\, arcu mi sollicitudin ex\, quis venenatis orci tellus vel dolor. Donec gravida\, dolor ut auctor facilisis\, enim dolor pellentesque lectus\, nec vehicula nibh risus ac leo. Mauris volutpat aliquam tellus nec rhoncus. Aliquam et nibh pulvinar\, sodales nibh et\, pretium urna. Vivamus quam augue\, maximus in consequat imperdiet\, iaculis non nibh. Aliquam erat volutpat. Curabitur venenatis massa sed lacus tristique\, non auctor nisl sodales. Sed ultricies lacus ut libero faucibus fringilla. Ut nisi tellus\, posuere vel mattis nec\, convallis a metus. Nullam elementum molestie felis nec lobortis. Cras at justo eu elit semper tempor sed quis orci. In risus magna\, malesuada vel elementum ut\, finibus et nunc. \n 
URL:https://thinternationalschool.in/event/day-of-knowledge/
LOCATION:Central Park\, Brooklyn\, NY 10036\, New York\, United States
CATEGORIES:Family
ORGANIZER;CN="Nick%20Sims":MAILTO:sims@example.com
END:VEVENT
BEGIN:VEVENT
DTSTART;VALUE=DATE:20220917
DTEND;VALUE=DATE:20220918
DTSTAMP:20260420T221549
CREATED:20180216T035020Z
LAST-MODIFIED:20180216T035020Z
UID:14298-1663372800-1663459199@thinternationalschool.in
SUMMARY:Day of Knowledge
DESCRIPTION:Cras dapibus ullamcorper dictum. Vivamus nec erat placerat felis scelerisque porttitor in ac turpis. In nec imperdiet turpis. Suspendisse quis orci ut orci pulvinar eleifend. Nulla eu mattis ipsum. Integer eget sagittis nulla. Praesent consectetur lacus et maximus eleifend. Integer non lacus dui. Mauris tortor diam\, laoreet quis commodo vitae\, sodales vel augue.| Sed rutrum\, libero non pretium tristique\, arcu mi sollicitudin ex\, quis venenatis orci tellus vel dolor. Donec gravida\, dolor ut auctor facilisis\, enim dolor pellentesque lectus\, nec vehicula nibh risus ac leo. Mauris volutpat aliquam tellus nec rhoncus. Aliquam et nibh pulvinar\, sodales nibh et\, pretium urna. Vivamus quam augue\, maximus in consequat imperdiet\, iaculis non nibh. Aliquam erat volutpat. Curabitur venenatis massa sed lacus tristique\, non auctor nisl sodales. Sed ultricies lacus ut libero faucibus fringilla. Ut nisi tellus\, posuere vel mattis nec\, convallis a metus. Nullam elementum molestie felis nec lobortis. Cras at justo eu elit semper tempor sed quis orci. In risus magna\, malesuada vel elementum ut\, finibus et nunc. \n 
URL:https://thinternationalschool.in/event/day-of-knowledge-2/
LOCATION:Central Park\, Brooklyn\, NY 10036\, New York\, United States
CATEGORIES:Family
ORGANIZER;CN="Nick%20Sims":MAILTO:sims@example.com
END:VEVENT
BEGIN:VEVENT
DTSTART;VALUE=DATE:20220303
DTEND;VALUE=DATE:20220304
DTSTAMP:20260420T221549
CREATED:20160725T183000Z
LAST-MODIFIED:20230301T185103Z
UID:14297-1646265600-1646351999@thinternationalschool.in
SUMMARY:World Wildlife Day
DESCRIPTION:March 3 is World Wildlife Day. It is a United Nations International day to celebrate all the world’s wild animals and plants and the contribution that they … \n 
URL:https://thinternationalschool.in/event/world-wildlife-day/
LOCATION:Central Park\, Brooklyn\, NY 10036\, New York\, United States
CATEGORIES:Family
ORGANIZER;CN="Nick%20Sims":MAILTO:sims@example.com
END:VEVENT
END:VCALENDAR