BEGIN:VCALENDAR
VERSION:2.0
PRODID:-//THISchool Yadgiri - ECPv6.1.3//NONSGML v1.0//EN
CALSCALE:GREGORIAN
METHOD:PUBLISH
X-WR-CALNAME:THISchool Yadgiri
X-ORIGINAL-URL:https://thinternationalschool.in
X-WR-CALDESC:Events for THISchool Yadgiri
REFRESH-INTERVAL;VALUE=DURATION:PT1H
X-Robots-Tag:noindex
X-PUBLISHED-TTL:PT1H
BEGIN:VTIMEZONE
TZID:Asia/Kolkata
BEGIN:STANDARD
TZOFFSETFROM:+0530
TZOFFSETTO:+0530
TZNAME:IST
DTSTART:20230101T000000
END:STANDARD
END:VTIMEZONE
BEGIN:VEVENT
DTSTART;VALUE=DATE:20230301
DTEND;VALUE=DATE:20230302
DTSTAMP:20260423T074057
CREATED:20160725T183000Z
LAST-MODIFIED:20230301T184907Z
UID:10805-1677628800-1677715199@thinternationalschool.in
SUMMARY:World Civil Defence Day
DESCRIPTION:Every year on March 1\, the world celebrates World Civil Defence Day to raise awareness about the importance of civil defence measures in protecting people and their property from natural disasters\, accidents\, and other emergencies. \n 
URL:https://thinternationalschool.in/event/world-civil-defence-day/
LOCATION:Central Park\, Brooklyn\, NY 10036\, New York\, United States
CATEGORIES:Family
ORGANIZER;CN="Nick%20Sims":MAILTO:sims@example.com
END:VEVENT
END:VCALENDAR